BEGIN:VCALENDAR
VERSION:2.0
PRODID:-//Squarespace Inc/Squarespace 6//v6//EN
BEGIN:VEVENT
UID:600396d5f3d9ba7765a14447@squarespace.com
DTSTAMP:20210117T014613Z
DTSTART:20210205T200000Z
DTEND:20210205T220000Z
SUMMARY:Back Field (WOMENS SDR + GADS)
GEO:-34.024188;151.108556
LOCATION:Southern Districts Rugby Club\, 223B Belgrave Esplanade\, Sylvania 
 Waters\, NSW\, 2224\, Australia
END:VEVENT
END:VCALENDAR
