BEGIN:VCALENDAR
VERSION:2.0
PRODID:-//Squarespace Inc/Squarespace 6//v6//EN
BEGIN:VEVENT
UID:60038e37090a0b0e11d21333@squarespace.com
DTSTAMP:20210117T010923Z
DTSTART:20210226T220000Z
DTEND:20210226T233000Z
SUMMARY:Back Field (MENS ADS)
GEO:-34.024188;151.108556
LOCATION:Southern Districts Rugby Club\, 223B Belgrave Esplanade\, Sylvania 
 Waters\, NSW\, 2224\, Australia
END:VEVENT
END:VCALENDAR
