BEGIN:VCALENDAR
VERSION:2.0
PRODID:-//Squarespace Inc/Squarespace 6//v6//EN
BEGIN:VEVENT
UID:60038cfd090a0b0e11d20326@squarespace.com
DTSTAMP:20210117T010521Z
DTSTART:20210129T200000Z
DTEND:20210129T233000Z
SUMMARY:Back Field (ALL ADS)
GEO:-34.024188;151.108556
LOCATION:Southern Districts Rugby Club\, 223B Belgrave Esplanade\, Sylvania 
 Waters\, NSW\, 2224\, Australia
END:VEVENT
END:VCALENDAR
