BEGIN:VCALENDAR
VERSION:2.0
PRODID:-//Squarespace Inc/Squarespace 6//v6//EN
BEGIN:VEVENT
UID:60038544ec2475411e953b99@squarespace.com
DTSTAMP:20210117T003224Z
DTSTART:20210122T200000Z
DTEND:20210122T233000Z
SUMMARY:Back Field (ALL ADS)
GEO:-34.024188;151.108556
LOCATION:Southern Districts Rugby Club\, 223B Belgrave Esplanade\, Sylvania 
 Waters\, NSW\, 2224\, Australia
END:VEVENT
END:VCALENDAR
