BEGIN:VCALENDAR
VERSION:2.0
PRODID:-//Squarespace Inc/Squarespace 6//v6//EN
BEGIN:VEVENT
UID:600381bfa7cd5a36af0c0322@squarespace.com
DTSTAMP:20210117T001610Z
DTSTART:20210304T063000Z
DTEND:20210304T083000Z
SUMMARY:Back Field (JADS/JEDS)
GEO:-34.024188;151.108556
LOCATION:Southern Districts Rugby Club\, 223B Belgrave Esplanade\, Sylvania 
 Waters\, NSW\, 2224\, Australia
END:VEVENT
END:VCALENDAR
