BEGIN:VCALENDAR
VERSION:2.0
PRODID:-//Squarespace Inc/Squarespace 6//v6//EN
BEGIN:VEVENT
UID:600381172a9f891955a2fd6c@squarespace.com
DTSTAMP:20210117T001328Z
DTSTART:20210223T063000Z
DTEND:20210223T083000Z
SUMMARY:Back Field (JADS/JEDS)
GEO:-34.024188;151.108556
LOCATION:Southern Districts Rugby Club\, 223B Belgrave Esplanade\, Sylvania 
 Waters\, NSW\, 2224\, Australia
END:VEVENT
END:VCALENDAR
