BEGIN:VCALENDAR
VERSION:2.0
PRODID:-//Squarespace Inc/Squarespace 6//v6//EN
BEGIN:VEVENT
UID:600380ee9cabb86c70d304ee@squarespace.com
DTSTAMP:20210117T001307Z
DTSTART:20210216T063000Z
DTEND:20210216T083000Z
SUMMARY:Back Field (JADS/JEDS)
GEO:-34.024188;151.108556
LOCATION:Southern Districts Rugby Club\, 223B Belgrave Esplanade\, Sylvania 
 Waters\, NSW\, 2224\, Australia
END:VEVENT
END:VCALENDAR
