BEGIN:VCALENDAR
VERSION:2.0
PRODID:-//Squarespace Inc/Squarespace 6//v6//EN
BEGIN:VEVENT
UID:6003808734ad2a7949c81dc2@squarespace.com
DTSTAMP:20210117T001107Z
DTSTART:20210121T063000Z
DTEND:20210121T083000Z
SUMMARY:Back Field (JADS/JEDS)
GEO:-34.024188;151.108556
LOCATION:Southern Districts Rugby Club\, 223B Belgrave Esplanade\, Sylvania 
 Waters\, NSW\, 2224\, Australia
END:VEVENT
END:VCALENDAR
