BEGIN:VCALENDAR
VERSION:2.0
PRODID:-//Squarespace Inc/Squarespace 6//v6//EN
BEGIN:VEVENT
UID:6003802b090a0b0e11d10ae5@squarespace.com
DTSTAMP:20210117T000959Z
DTSTART:20210119T063000Z
DTEND:20210119T083000Z
SUMMARY:Back Field (JADS/JEDS)
GEO:-34.024188;151.108556
LOCATION:Southern Districts Rugby Club\, 223B Belgrave Esplanade\, Sylvania 
 Waters\, NSW\, 2224\, Australia
END:VEVENT
END:VCALENDAR
