BEGIN:VCALENDAR
VERSION:2.0
PRODID:-//Squarespace Inc/Squarespace 6//v6//EN
BEGIN:VEVENT
UID:6003a2ee73e4d62d05338142@squarespace.com
DTSTAMP:20210117T023748Z
DTSTART:20210210T063000Z
DTEND:20210210T083000Z
SUMMARY:Back Field (RADS)
GEO:-34.024188;151.108556
LOCATION:Southern Districts Rugby Club\, 223B Belgrave Esplanade\, Sylvania 
 Waters\, NSW\, 2224\, Australia
END:VEVENT
END:VCALENDAR
