BEGIN:VCALENDAR
VERSION:2.0
PRODID:-//Squarespace Inc/Squarespace 6//v6//EN
BEGIN:VEVENT
UID:6003aacc6506eb006568d3e6@squarespace.com
DTSTAMP:20210117T031129Z
DTSTART:20210219T063000Z
DTEND:20210219T083000Z
SUMMARY:Back Field (RADS)
GEO:-34.024188;151.108556
LOCATION:Southern Districts Rugby Club\, 223B Belgrave Esplanade\, Sylvania 
 Waters\, NSW\, 2224\, Australia
END:VEVENT
END:VCALENDAR
