BEGIN:VCALENDAR
VERSION:2.0
PRODID:-//Squarespace Inc/Squarespace 6//v6//EN
BEGIN:VEVENT
UID:6003a3ba1e378c5ba126c677@squarespace.com
DTSTAMP:20210117T223524Z
DTSTART:20210122T063000Z
DTEND:20210122T083000Z
SUMMARY:Back Field (RADS)
GEO:-34.024188;151.108556
LOCATION:Southern Districts Rugby Club\, 223B Belgrave Esplanade\, Sylvania 
 Waters\, NSW\, 2224\, Australia
END:VEVENT
END:VCALENDAR
