BEGIN:VCALENDAR
VERSION:2.0
PRODID:-//Squarespace Inc/Squarespace 6//v6//EN
BEGIN:VEVENT
UID:6003acdb1c6cfa0180c4c105@squarespace.com
DTSTAMP:20210117T032004Z
DTSTART:20210323T070000Z
DTEND:20210323T083000Z
SUMMARY:Back Field - SDR Skills
GEO:-34.024188;151.108556
LOCATION:Southern Districts Rugby Club\, 223B Belgrave Esplanade\, Sylvania 
 Waters\, NSW\, 2224\, Australia
END:VEVENT
END:VCALENDAR
