BEGIN:VCALENDAR
VERSION:2.0
PRODID:-//Squarespace Inc/Squarespace 6//v6//EN
BEGIN:VEVENT
UID:6003e508c580bf115d9ec292@squarespace.com
DTSTAMP:20210117T072011Z
DTSTART:20210311T073000Z
DTEND:20210311T092959Z
SUMMARY:Back Space (Sea Lice)
GEO:-34.024188;151.108556
LOCATION:Southern Districts Rugby Club\, 223B Belgrave Esplanade\, Sylvania 
 Waters\, NSW\, 2224\, Australia
END:VEVENT
END:VCALENDAR
