BEGIN:VCALENDAR
VERSION:2.0
PRODID:-//Squarespace Inc/Squarespace 6//v6//EN
BEGIN:VEVENT
UID:60039c30652b4632bca27284@squarespace.com
DTSTAMP:20210117T020904Z
DTSTART:20210329T070000Z
DTEND:20210329T093000Z
SUMMARY:Back Field - Booked Touch Footy
GEO:-34.024188;151.108556
LOCATION:Southern Districts Rugby Club\, 223B Belgrave Esplanade\, Sylvania 
 Waters\, NSW\, 2224\, Australia
END:VEVENT
END:VCALENDAR
