BEGIN:VCALENDAR
VERSION:2.0
PRODID:-//Squarespace Inc/Squarespace 6//v6//EN
BEGIN:VEVENT
UID:60039b3d6506eb006567ea6f@squarespace.com
DTSTAMP:20210117T020513Z
DTSTART:20210315T070000Z
DTEND:20210315T093000Z
SUMMARY:Back Field - Booked Touch Footy
GEO:-34.024188;151.108556
LOCATION:Southern Districts Rugby Club\, 223B Belgrave Esplanade\, Sylvania 
 Waters\, NSW\, 2224\, Australia
END:VEVENT
END:VCALENDAR
