BEGIN:VCALENDAR
VERSION:2.0
PRODID:-//Squarespace Inc/Squarespace 6//v6//EN
BEGIN:VEVENT
UID:600398086909e922ff21fc9f@squarespace.com
DTSTAMP:20210117T015127Z
DTSTART:20210215T070000Z
DTEND:20210215T093000Z
SUMMARY:Back Field - Booked Touch Footy
GEO:-34.024188;151.108556
LOCATION:Southern Districts Rugby Club\, 223B Belgrave Esplanade\, Sylvania 
 Waters\, NSW\, 2224\, Australia
END:VEVENT
END:VCALENDAR
