BEGIN:VCALENDAR
VERSION:2.0
PRODID:-//Squarespace Inc/Squarespace 6//v6//EN
BEGIN:VEVENT
UID:60039782e996e15729d7791c@squarespace.com
DTSTAMP:20210117T014959Z
DTSTART:20210201T070000Z
DTEND:20210201T093000Z
SUMMARY:Main Field - Booked Touch Footy
GEO:-34.024188;151.108556
LOCATION:Southern Districts Rugby Club\, 223B Belgrave Esplanade\, Sylvania 
 Waters\, NSW\, 2224\, Australia
END:VEVENT
END:VCALENDAR
