BEGIN:VCALENDAR
VERSION:2.0
PRODID:-//Squarespace Inc/Squarespace 6//v6//EN
BEGIN:VEVENT
UID:60037d6d34e62f52c6db44e1@squarespace.com
DTSTAMP:20210116T235839Z
DTSTART:20210118T210000Z
DTEND:20210119T090000Z
SUMMARY:Main Field Closed
GEO:-34.024188;151.108556
LOCATION:Southern Districts Rugby Club\, 223B Belgrave Esplanade\, Sylvania 
 Waters\, NSW\, 2224\, Australia
END:VEVENT
END:VCALENDAR
