BEGIN:VCALENDAR
VERSION:2.0
PRODID:-//Squarespace Inc/Squarespace 6//v6//EN
BEGIN:VEVENT
UID:600381d9655a78118b9cb729@squarespace.com
DTSTAMP:20210117T001704Z
DTSTART:20210220T210000Z
DTEND:20210228T110000Z
SUMMARY:Main Field Closed
GEO:-34.024188;151.108556
LOCATION:Southern Districts Rugby Club\, 223B Belgrave Esplanade\, Sylvania 
 Waters\, NSW\, 2224\, Australia
END:VEVENT
END:VCALENDAR
