BEGIN:VCALENDAR
VERSION:2.0
PRODID:-//Squarespace Inc/Squarespace 6//v6//EN
BEGIN:VEVENT
UID:6004bbd1b97d4d110c8f3181@squarespace.com
DTSTAMP:20210117T223619Z
DTSTART:20210122T210000Z
DTEND:20210123T090000Z
SUMMARY:Main Field Closed
GEO:-34.024188;151.108556
LOCATION:Southern Districts Rugby Club\, 223B Belgrave Esplanade\, Sylvania 
 Waters\, NSW\, 2224\, Australia
END:VEVENT
END:VCALENDAR
