BEGIN:VCALENDAR
VERSION:2.0
PRODID:-//Squarespace Inc/Squarespace 6//v6//EN
BEGIN:VEVENT
UID:6004bb85ec2475411ea72fca@squarespace.com
DTSTAMP:20210117T223456Z
DTSTART:20210121T210000Z
DTEND:20210122T090000Z
SUMMARY:Main Field Closed
GEO:-34.024188;151.108556
LOCATION:Southern Districts Rugby Club\, 223B Belgrave Esplanade\, Sylvania 
 Waters\, NSW\, 2224\, Australia
END:VEVENT
END:VCALENDAR
