BEGIN:VCALENDAR
VERSION:2.0
PRODID:-//Squarespace Inc/Squarespace 6//v6//EN
BEGIN:VEVENT
UID:60037bc5b66f945334624575@squarespace.com
DTSTAMP:20210117T223437Z
DTSTART:20210120T210000Z
DTEND:20210121T090000Z
SUMMARY:Main Field Closed
GEO:-34.024188;151.108556
LOCATION:Southern Districts Rugby Club\, 223B Belgrave Esplanade\, Sylvania 
 Waters\, NSW\, 2224\, Australia
END:VEVENT
END:VCALENDAR
