BEGIN:VCALENDAR
VERSION:2.0
PRODID:-//Squarespace Inc/Squarespace 6//v6//EN
BEGIN:VEVENT
UID:6003f3b6a7e7ba5564b7eb6f@squarespace.com
DTSTAMP:20210117T082256Z
DTSTART:20210312T070000Z
DTEND:20210312T083000Z
SUMMARY:Back Field - Grade Colts
GEO:-34.024188;151.108556
LOCATION:Southern Districts Rugby Club\, 223B Belgrave Esplanade\, Sylvania 
 Waters\, NSW\, 2224\, Australia
END:VEVENT
END:VCALENDAR
