BEGIN:VCALENDAR
VERSION:2.0
PRODID:-//Squarespace Inc/Squarespace 6//v6//EN
BEGIN:VEVENT
UID:6003f4b0ce24650c88242b12@squarespace.com
DTSTAMP:20210117T082645Z
DTSTART:20210324T070000Z
DTEND:20210324T090000Z
SUMMARY:Back Field - Grade Colts
GEO:-34.024188;151.108556
LOCATION:Southern Districts Rugby Club\, 223B Belgrave Esplanade\, Sylvania 
 Waters\, NSW\, 2224\, Australia
END:VEVENT
END:VCALENDAR
