BEGIN:VCALENDAR
VERSION:2.0
PRODID:-//Squarespace Inc/Squarespace 6//v6//EN
BEGIN:VEVENT
UID:6003c51e9cabb86c70d77e30@squarespace.com
DTSTAMP:20210117T050356Z
DTSTART:20210317T070000Z
DTEND:20210317T090000Z
SUMMARY:Main Field - Grade Colts
GEO:-34.024188;151.108556
LOCATION:Southern Districts Rugby Club\, 223B Belgrave Esplanade\, Sylvania 
 Waters\, NSW\, 2224\, Australia
END:VEVENT
END:VCALENDAR
