BEGIN:VCALENDAR
VERSION:2.0
PRODID:-//Squarespace Inc/Squarespace 6//v6//EN
BEGIN:VEVENT
UID:6003a1a48a2b87460a022932@squarespace.com
DTSTAMP:20210117T023225Z
DTSTART:20210219T070000Z
DTEND:20210219T093000Z
SUMMARY:Main Field - Grade Colts
GEO:-34.024188;151.108556
LOCATION:Southern Districts Rugby Club\, 223B Belgrave Esplanade\, Sylvania 
 Waters\, NSW\, 2224\, Australia
END:VEVENT
END:VCALENDAR
