BEGIN:VCALENDAR
VERSION:2.0
PRODID:-//Squarespace Inc/Squarespace 6//v6//EN
BEGIN:VEVENT
UID:60039d7a38122408a417a2de@squarespace.com
DTSTAMP:20210117T021429Z
DTSTART:20210129T070000Z
DTEND:20210129T093000Z
SUMMARY:Main Field - Grade Colts
GEO:-34.024188;151.108556
LOCATION:Southern Districts Rugby Club\, 223B Belgrave Esplanade\, Sylvania 
 Waters\, NSW\, 2224\, Australia
END:VEVENT
END:VCALENDAR
