BEGIN:VCALENDAR
VERSION:2.0
PRODID:-//Squarespace Inc/Squarespace 6//v6//EN
BEGIN:VEVENT
UID:6003a0a61e378c5ba126989c@squarespace.com
DTSTAMP:20210117T023011Z
DTSTART:20210203T070000Z
DTEND:20210203T093000Z
SUMMARY:Main Field - Grade Colts
GEO:-34.024188;151.108556
LOCATION:Southern Districts Rugby Club\, 223B Belgrave Esplanade\, Sylvania 
 Waters\, NSW\, 2224\, Australia
END:VEVENT
END:VCALENDAR
