BEGIN:VCALENDAR
VERSION:2.0
PRODID:-//Squarespace Inc/Squarespace 6//v6//EN
BEGIN:VEVENT
UID:60039d2d4f994d4e7365871a@squarespace.com
DTSTAMP:20210117T021342Z
DTSTART:20210122T070000Z
DTEND:20210122T093000Z
SUMMARY:TBA - Grade Colts
GEO:-34.024188;151.108556
LOCATION:Southern Districts Rugby Club\, 223B Belgrave Esplanade\, Sylvania 
 Waters\, NSW\, 2224\, Australia
END:VEVENT
END:VCALENDAR
