BEGIN:VCALENDAR
VERSION:2.0
PRODID:-//Squarespace Inc/Squarespace 6//v6//EN
BEGIN:VEVENT
UID:60039cc32b330874407d7f95@squarespace.com
DTSTAMP:20210117T021252Z
DTSTART:20210120T070000Z
DTEND:20210120T093000Z
SUMMARY:Main Field - Grade Colts
GEO:-34.024188;151.108556
LOCATION:Southern Districts Rugby Club\, 223B Belgrave Esplanade\, Sylvania 
 Waters\, NSW\, 2224\, Australia
END:VEVENT
END:VCALENDAR
