BEGIN:VCALENDAR
VERSION:2.0
PRODID:-//Squarespace Inc/Squarespace 6//v6//EN
BEGIN:VEVENT
UID:6003f7098a2b87460a05b426@squarespace.com
DTSTAMP:20210117T083650Z
DTSTART:20210326T200000Z
DTEND:20210326T213000Z
SUMMARY:Main Field - Womens
GEO:-34.024188;151.108556
LOCATION:Southern Districts Rugby Club\, 223B Belgrave Esplanade\, Sylvania 
 Waters\, NSW\, 2224\, Australia
END:VEVENT
END:VCALENDAR
