BEGIN:VCALENDAR
VERSION:2.0
PRODID:-//Squarespace Inc/Squarespace 6//v6//EN
BEGIN:VEVENT
UID:6003f6ed19c6141b35fb4602@squarespace.com
DTSTAMP:20210117T083611Z
DTSTART:20210319T200000Z
DTEND:20210319T213000Z
SUMMARY:Main Field - Womens
GEO:-34.024188;151.108556
LOCATION:Southern Districts Rugby Club\, 223B Belgrave Esplanade\, Sylvania 
 Waters\, NSW\, 2224\, Australia
END:VEVENT
END:VCALENDAR
