BEGIN:VCALENDAR
VERSION:2.0
PRODID:-//Squarespace Inc/Squarespace 6//v6//EN
BEGIN:VEVENT
UID:6003ac6b9db7573b5dc72c5c@squarespace.com
DTSTAMP:20210117T031815Z
DTSTART:20210330T070000Z
DTEND:20210330T093000Z
SUMMARY:Main Field - Womens
GEO:-34.024188;151.108556
LOCATION:Southern Districts Rugby Club\, 223B Belgrave Esplanade\, Sylvania 
 Waters\, NSW\, 2224\, Australia
END:VEVENT
END:VCALENDAR
