BEGIN:VCALENDAR
VERSION:2.0
PRODID:-//Squarespace Inc/Squarespace 6//v6//EN
BEGIN:VEVENT
UID:6003ac5ff6b2401f073bb0a3@squarespace.com
DTSTAMP:20210117T031758Z
DTSTART:20210323T070000Z
DTEND:20210323T093000Z
SUMMARY:Main Field - Womens
GEO:-34.024188;151.108556
LOCATION:Southern Districts Rugby Club\, 223B Belgrave Esplanade\, Sylvania 
 Waters\, NSW\, 2224\, Australia
END:VEVENT
END:VCALENDAR
