BEGIN:VCALENDAR
VERSION:2.0
PRODID:-//Squarespace Inc/Squarespace 6//v6//EN
BEGIN:VEVENT
UID:600516763e592d07ac504df0@squarespace.com
DTSTAMP:20210118T050315Z
DTSTART:20210205T210000Z
DTEND:20210206T070000Z
SUMMARY:Parking Challenges
GEO:-34.024188;151.108556
LOCATION:Southern Districts Rugby Club\, 223B Belgrave Esplanade\, Sylvania 
 Waters\, NSW\, 2224\, Australia
END:VEVENT
END:VCALENDAR
