BEGIN:VCALENDAR
VERSION:2.0
PRODID:-//Squarespace Inc/Squarespace 6//v6//EN
BEGIN:VEVENT
UID:6005160e2a9f891955bc55db@squarespace.com
DTSTAMP:20210118T050232Z
DTSTART:20210205T040000Z
DTEND:20210205T100000Z
SUMMARY:Parking Challenges
GEO:-34.024188;151.108556
LOCATION:Southern Districts Rugby Club\, 223B Belgrave Esplanade\, Sylvania 
 Waters\, NSW\, 2224\, Australia
END:VEVENT
END:VCALENDAR
