BEGIN:VCALENDAR
VERSION:2.0
PRODID:-//Squarespace Inc/Squarespace 6//v6//EN
BEGIN:VEVENT
UID:6013ac3c623cad46b4746353@squarespace.com
DTSTAMP:20210129T070603Z
DTSTART:20210219T233000Z
DTEND:20210220T070000Z
SUMMARY:Main + Back Field - Rugby Kick Golf
GEO:-34.024188;151.108556
LOCATION:Southern Districts Rugby Club\, 223B Belgrave Esplanade\, Sylvania 
 Waters\, NSW\, 2224\, Australia
END:VEVENT
END:VCALENDAR
